BEGIN:VCALENDAR
VERSION:2.0
PRODID:-//hacksw/handcal//NONSGML v1.0//EN
BEGIN:VEVENT
SUMMARY:MN Domaine de Tamary La Londe
UID:624ca7af-c3e6-4f95-a692-56860d2d0316
DTSTART:20260330T064500Z
DTEND:20260330T220000Z
LOCATION:Localisation   
CATEGORIES:Sportif
STATUS:
DESCRIPTION:<p style="text-align:justify;"><br>
 <span
 style="font-size:16px;">Bonjour a toutes et a tous, </span></p>
 
 <p
 style="text-align:justify;"><span style="font-size:16px;">Pour lundi,
 nous avons choisi le Domaine de Tamary a La Londe les Maures. RDV a
 l'Espace 3000 <strong>pour partir des 08h15 (covoiturage)</strong> ou
 sur site vers 08h45. Nous formerons deux groupes, l'un sportif et
 l'autre tonique pour satisfaire tout le monde.</span> <span
 style="font-size:16px;">Dans l'attente, nous vous souhaitons un
 excellent week-end de passage a l'heure d'ete.</span></p>
 
 <p
 style="text-align:justify;"><span style="font-size:16px;">Vos
 animateurs MN.</span></p>
URL;VALUE=URI:https://www.randonneurshyerois.fr/evenements/2026/03/30/mn-domaine-de-tamary-la-londe-2434290
END:VEVENT
END:VCALENDAR
