BEGIN:VCALENDAR
VERSION:2.0
PRODID:-//hacksw/handcal//NONSGML v1.0//EN
BEGIN:VEVENT
SUMMARY:MN Sante Plage des Tamaris a La Londe
UID:7dbbc348-5463-48cd-af08-df3d2fe822f6
DTSTART:20260330T063000Z
DTEND:20260330T220000Z
LOCATION:Localisation   
CATEGORIES:Sportif
STATUS:
DESCRIPTION:<p><span style="font-size:11pt;"><span><span
 style="font-family:Aptos, sans-serif;">Bonjour les mns !
 </span></span></span></p>
 
 <p><span
 style="font-size:11pt;"><span><span style="font-family:Aptos,
 sans-serif;">Retrouvons nous lundi a 8h30 a La Londe sur le parking
 du Port Maravenne/ plage des Tamaris.  (attention, changement
 d’heure ce dimanche, n’oubliez pas de mettre le reveil <span
 style="font-family:'Segoe UI Emoji', sans-serif;">😉</span>
 )</span></span></span></p>
 
 <p><span
 style="font-size:11pt;"><span><span style="font-family:Aptos,
 sans-serif;">Le temps devrait etre ensoleille, peut-etre un peu de
 vent.</span></span></span></p>
 
 <p><span
 style="font-size:11pt;"><span><span style="font-family:Aptos,
 sans-serif;"><a href="https://maps.app.goo.gl/PPZdzzBhNdwpC69o7"
 style="color:#467886;text-decoration:underline;" target="_blank"
 rel="noreferrer
 noopener">https://maps.app.goo.gl/PPZdzzBhNdwpC69o7</a></span></span></span></p>
URL;VALUE=URI:https://www.randonneurshyerois.fr/evenements/2026/03/30/mn-sante-plage-des-tamaris-a-la-londe-2434338
END:VEVENT
END:VCALENDAR
