BEGIN:VCALENDAR
VERSION:2.0
PRODID:-//hacksw/handcal//NONSGML v1.0//EN
BEGIN:VEVENT
SUMMARY:Longe-cote Almanarre
UID:ccf5ce8f-c828-4ce5-84ec-91a5ac52b47d
DTSTART:20260401T073000Z
DTEND:20260401T220000Z
LOCATION:Longe-cote Almanarre parking cim. Giens 20 chemin de la plage 83400 Giens
CATEGORIES:Sportif
STATUS:
DESCRIPTION:<p>Bonjour aux longeuses et longeurs,</p>
 
 <p>demain
 mercredi 1er Avril, les poissons, c'est nous ! Retrouvons-nous a
 09h30 pour notre seance de longe-cote a l'Almanarre, parking du cim.
 de Giens. Le soleil nous aidera a compenser des temperatures
 fraiches.</p>
 
 <p>Meteo previsionnelle :<br>
 - Ciel: clair avec
 quelques nuages<br>
 - T air :  7°C<br>
 - T eau : 14°C<br>
 - Vent :
 Est, 14 km/h<br>
 - Vagues : mer totale 0.7 m </p>
 
 <p>Inscriptions
 obligatoires avant 20h ce jour : utilisez le lien au
 dessus</p>
 
 <p>Consignes : chaussures aquatiques exigees,<br>
 tenue
 adaptee a la meteo, creme solaire, boire avant/apres et si possible
 pendant.</p>
 
 <p>L'equipe animateurs longe-cote</p>
URL;VALUE=URI:https://www.randonneurshyerois.fr/evenements/2026/04/01/longe-cote-almanarre-2435702
END:VEVENT
END:VCALENDAR
