BEGIN:VCALENDAR
VERSION:2.0
PRODID:-//hacksw/handcal//NONSGML v1.0//EN
BEGIN:VEVENT
SUMMARY:rando pedestre a Bormes les Mimosas - niveau E2 - Animateurs : Hubert PE.
UID:b7d421d1-cd60-4bbb-9f38-761c05c93eff
DTSTART:20260402T063000Z
DTEND:20260402T220000Z
LOCATION:Localisation   
CATEGORIES:Sportif
STATUS:
DESCRIPTION:<table border="1" style="width:400px;"
 width="514">	<colgroup>		<col style="width:55pt;" width="74">		<col
 style="width:330pt;" width="440">	</colgroup>	<tbody>		<tr>			<td
 class="xl70"
 style="height:20px;width:74px;text-align:center;padding-left:1px;"><span
 style="font-size:15px;"><span style="color:#000000;"><span
 style="font-weight:400;"><span style="font-style:normal;"><span
 style="text-decoration:none;"><span style="font-family:Calibri,
 sans-serif;">Depart</span></span></span></span></span></span></td>			<td
 class="xl67"
 style="width:440px;text-align:center;padding-left:1px;"><span
 style="font-size:16px;"><span style="color:#000000;"><span
 style="font-weight:400;"><span style="font-style:normal;"><span
 style="text-decoration:none;"><span style="font-family:Calibri,
 sans-serif;">8h30</span></span></span></span></span></span></td>		</tr>		<tr>			<td
 class="xl70"
 style="height:20px;text-align:center;padding-left:1px;"><span
 style="font-size:15px;"><span style="color:#000000;"><span
 style="font-weight:400;"><span style="font-style:normal;"><span
 style="text-decoration:none;"><span style="font-family:Calibri,
 sans-serif;">Voiture
 AR</span></span></span></span></span></span></td>			<td class="xl67"
 style="width:440px;text-align:center;padding-left:1px;"><span
 style="font-size:16px;"><span style="color:#000000;"><span
 style="font-weight:400;"><span style="font-style:normal;"><span
 style="text-decoration:none;"><span style="font-family:Calibri,
 sans-serif;">32km</span></span></span></span></span></span></td>		</tr>		<tr>			<td
 class="xl70"
 style="height:20px;text-align:center;padding-left:1px;"><span
 style="font-size:15px;"><span style="color:#000000;"><span
 style="font-weight:400;"><span style="font-style:normal;"><span
 style="text-decoration:none;"><span style="font-family:Calibri,
 sans-serif;">Activite</span></span></span></span></span></span></td>			<td
 class="xl67"
 style="width:440px;text-align:center;padding-left:1px;"><span
 style="font-size:16px;"><span style="color:#000000;"><span
 style="font-weight:400;"><span style="font-style:normal;"><span
 style="text-decoration:none;"><span style="font-family:Calibri,
 sans-serif;">RP</span></span></span></span></span></span></td>		</tr>		<tr>			<td
 class="xl70"
 style="height:20px;text-align:center;padding-left:1px;"><span
 style="font-size:15px;"><span style="color:#000000;"><span
 style="font-weight:400;"><span style="font-style:normal;"><span
 style="text-decoration:none;"><span style="font-family:Calibri,
 sans-serif;">Niveau</span></span></span></span></span></span></td>			<td
 class="xl69"
 style="width:440px;text-align:center;padding-left:1px;"><span
 style="font-size:16px;"><span style="color:#000000;"><span
 style="font-weight:400;"><span style="font-style:normal;"><span
 style="text-decoration:none;"><span style="font-family:Calibri,
 sans-serif;">IBP 43   12.5 km    340
 m</span></span></span></span></span></span></td>		</tr>		<tr>			<td
 class="xl70"
 style="height:20px;text-align:center;padding-left:1px;"><span
 style="font-size:15px;"><span style="color:#000000;"><span
 style="font-weight:400;"><span style="font-style:normal;"><span
 style="text-decoration:none;"><span style="font-family:Calibri,
 sans-serif;">Cotation</span></span></span></span></span></span></td>			<td
 class="xl67"
 style="width:440px;text-align:center;padding-left:1px;"><span
 style="font-size:16px;"><span style="color:#000000;"><span
 style="font-weight:400;"><span style="font-style:normal;"><span
 style="text-decoration:none;"><span style="font-family:Calibri,
 sans-serif;">E2 T2
 R2</span></span></span></span></span></span></td>		</tr>		<tr>			<td
 class="xl70"
 style="height:20px;text-align:center;padding-left:1px;"><span
 style="font-size:15px;"><span style="color:#000000;"><span
 style="font-weight:400;"><span style="font-style:normal;"><span
 style="text-decoration:none;"><span style="font-family:Calibri,
 sans-serif;">Duree</span></span></span></span></span></span></td>			<td
 class="xl69"
 style="width:440px;text-align:center;padding-left:1px;"><span
 style="font-size:16px;"><span style="color:#000000;"><span
 style="font-weight:400;"><span style="font-style:normal;"><span
 style="text-decoration:none;"><span style="font-family:Calibri,
 sans-serif;">04h30</span></span></span></span></span></span></td>		</tr>		<tr>			<td
 class="xl70"
 style="height:42px;text-align:center;padding-left:1px;"><span
 style="font-size:15px;"><span style="color:#000000;"><span
 style="font-weight:400;"><span style="font-style:normal;"><span
 style="text-decoration:none;"><span style="font-family:Calibri,
 sans-serif;">Description</span></span></span></span></span></span></td>			<td
 class="xl68"
 style="width:440px;text-align:left;padding-left:1px;"><p><span
 style="font-size:16px;"><span style="color:#000000;"><span
 style="font-weight:700;"><span style="font-style:normal;"><span
 style="text-decoration:none;"><span style="font-family:Calibri,
 sans-serif;"><font><span style="font-size:12pt;"><span
 style="color:#000000;"><span style="font-weight:700;"><span
 style="font-style:normal;"><span style="text-decoration:none;"><span
 style="font-family:Calibri, sans-serif;">Bormes Les Mimosas
 </span></span></span></span></span></span></font><font><span
 style="font-size:12pt;"><span style="color:#000000;"><span
 style="font-weight:400;"><span style="font-style:normal;"><span
 style="text-decoration:none;"><span style="font-family:Calibri,
 sans-serif;">: La Verrerie, Le Trapan, Puits Mourets, Les Caroubiers.
 Carte
 3446ET.</span></span></span></span></span></span></font></span></span></span></span></span></span></p><p><span
 style="font-size:16px;"><span style="color:#000000;"><span
 style="font-weight:700;"><span style="font-style:normal;"><span
 style="text-decoration:none;"><span style="font-family:Calibri,
 sans-serif;"><font><span style="font-size:12pt;"><span
 style="color:#000000;"><span style="font-weight:400;"><span
 style="font-style:normal;"><span style="text-decoration:none;"><span
 style="font-family:Calibri, sans-serif;">La reco de la semaine
 derniere a montre que des parties du parcours prevu demain pour la E2
 restaient bien trempees, la traversee du Pellegrin un peu
 problematique, de plus des travaux de terrassement en cours dans le
 domaine de la Sangliere transformant un passage en veritable
 bourbier. Les pluies de ce week-end ayant certainement accentue les
 difficultes, je propose de reporter cette rando au jeudi 2 avril,
 apres une nouvelle reco pour valider l’etat de ce
 parcours.</span></span></span></span></span></span></font></span></span></span></span></span></span></p></td>		</tr>	</tbody></table>
URL;VALUE=URI:https://www.randonneurshyerois.fr/evenements/2026/04/02/rando-pedestre-a-bormes-les-mimosas-niveau-e2-animateurs-hubert-pe-2419458
END:VEVENT
END:VCALENDAR
