BEGIN:VCALENDAR
VERSION:2.0
PRODID:-//hacksw/handcal//NONSGML v1.0//EN
BEGIN:VEVENT
SUMMARY:MN Almanarre
UID:e5f7a3a2-7372-49be-a0f2-c2f72c00ecde
DTSTART:20260406T063000Z
DTEND:20260406T220000Z
LOCATION:Localisation   
CATEGORIES:Sportif
STATUS:
DESCRIPTION:<p>Bonjour les Marcheurs Nordiques,</p>
 
 <p>demain lundi
 06 avril nous marcherons sur la route du sel depuis le parking de
 l'Almanarre.</p>
 
 <p>Rdv a 08h30 a l'Espace 3000 pour le covoiturage
 ou directement a l'Almanarre pour ceux qui souhaitent s'y rendre
 directement.</p>
 
 <p>Bon dimanche de Paques.</p>
 
 <p>Regine.</p>
URL;VALUE=URI:https://www.randonneurshyerois.fr/evenements/2026/04/06/mn-almanarre-2438274
END:VEVENT
END:VCALENDAR
