BEGIN:VCALENDAR
VERSION:2.0
PRODID:-//hacksw/handcal//NONSGML v1.0//EN
BEGIN:VEVENT
SUMMARY:Longe-cote Almanarre
UID:4f8f016f-3b8e-4c06-9ab1-f49cf60e8fe8
DTSTART:20260408T073000Z
DTEND:20260408T220000Z
LOCATION:Longe-cote Almanarre parking cim. Giens 20 chemin de la plage 83400 Giens
CATEGORIES:Sportif
STATUS:
DESCRIPTION:<p>Bonjour aux longeuses et longeurs,</p>
 
 <p>demain
 mercredi 8 Avril retrouvons-nous a 09h30 pour notre seance de
 longe-cote a l'Almanarre, parking du cim. de Giens. La mer commence a
 se rechauffer apres le beau week-end de Paques.</p>
 
 <p>Meteo
 previsionnelle :<br>
 - Ciel : clair <br>
 - T air :  17°C<br>
 - T
 eau : 16°C<br>
 - Vent : Est, 8 a 15 km/h<br>
 - Vagues : mer totale
 0.2 m </p>
 
 <p>Inscriptions obligatoires avant 20h ce jour :
 utilisez le lien au dessus</p>
 
 <p>Consignes : chaussures aquatiques
 exigees,<br>
 tenue adaptee a la meteo, creme solaire, boire
 avant/apres et si possible pendant.</p>
 
 <p>L'equipe animateurs
 longe-cote</p>
URL;VALUE=URI:https://www.randonneurshyerois.fr/evenements/2026/04/08/longe-cote-almanarre-2438928
END:VEVENT
END:VCALENDAR
