BEGIN:VCALENDAR
VERSION:2.0
PRODID:-//hacksw/handcal//NONSGML v1.0//EN
BEGIN:VEVENT
SUMMARY:Longe-cote Almanarre
UID:1e761eb1-0cf9-4a4f-970b-c02b621e1ec5
DTSTART:20260411T073000Z
DTEND:20260411T220000Z
LOCATION:Longe-cote Almanarre parking cim. Giens 20 chemin de la plage 83400 Giens
CATEGORIES:Sportif
STATUS:
DESCRIPTION:<p>Bonjour a toutes et tous,</p>
 
 <p>Longe cote demain
 9h30 a l'almanarre, Rdv parking du cimetiere de Giens.</p>
 
 <p>Meteo
 previsionnelle :<br />
 - Ciel : nuageux en debut de seance,
 s'eclaircissant progressivement. <br />
 - T air :  15°C<br />
 - T
 eau : 16°C<br />
 - Vent : Est, 18 a 25 km/h<br />
 - Vagues : mer
 totale 0.3 m </p>
 
 <p>Inscriptions obligatoires avant 20h ce jour :
 utilisez le lien au dessus</p>
 
 <p>Consignes : chaussures aquatiques
 exigees,<br />
 tenue adaptee a la meteo, creme solaire, boire
 avant/apres et si possible pendant.</p>
 
 <p><br />
 Je vous souhaite
 une agreable journee. <br />
 Regine. 🌺</p>
URL;VALUE=URI:https://www.randonneurshyerois.fr/evenements/2026/04/11/longe-cote-almanarre-2439810
END:VEVENT
END:VCALENDAR
