BEGIN:VCALENDAR
VERSION:2.0
PRODID:-//hacksw/handcal//NONSGML v1.0//EN
BEGIN:VEVENT
SUMMARY:MN aux Vieux Salins
UID:4fc14463-38e3-4d0e-bebd-07ee4781c702
DTSTART:20260413T063000Z
DTEND:20260413T220000Z
LOCATION:Localisation   
CATEGORIES:Sportif
STATUS:
DESCRIPTION:<p>Bonjour a toutes et tous,</p>
 
 <p>Demain lundi 13
 avril nous vous donnons RDV a 08h15 sur le parking de l'Espace 3000
 (covoiturage) pour partir aux Vieux Salins et rejoindre celles et
 ceux qui s'y rendront directement.</p>
 
 <p>Nous devrions marcher au
 sec avant la pluie atttendue en fin de matinee.</p>
 
 <p>Au plaisir de
 vous retrouver.</p>
 
 <p>Bon dimanche.</p>
 
 <p>Regine et Hubert.</p>
URL;VALUE=URI:https://www.randonneurshyerois.fr/evenements/2026/04/13/mn-aux-vieux-salins-2440243
END:VEVENT
END:VCALENDAR
