BEGIN:VCALENDAR
VERSION:2.0
PRODID:-//hacksw/handcal//NONSGML v1.0//EN
BEGIN:VEVENT
SUMMARY:MN Sante Route du sel a Hyeres
UID:7e627807-baa8-4aa7-b8ca-efb71c46c7d9
DTSTART:20260413T063000Z
DTEND:20260413T220000Z
LOCATION:Localisation   
CATEGORIES:Sportif
STATUS:
DESCRIPTION:<p>Bonjour </p>
 
 <p>ce lundi je vous propose de profiter
 de la route du sel avant qu'elle ne soit rouverte aux vehicules. Le
 temps devrait etre legerement couvert, avec un peu de vent. Pas de
 pluie annoncee le matin.</p>
 
 <p>Retrouvons nous a 8h30 sur le
 parking a l'entree de la route, cote Hyeres.<br
 />
 https://maps.app.goo.gl/bekHuFJ68rYE39Lz8<br />
 Bon
 dimanche</p>
 
 <p>Rachel</p>
URL;VALUE=URI:https://www.randonneurshyerois.fr/evenements/2026/04/13/mn-sante-route-du-sel-a-hyeres-2440200
END:VEVENT
END:VCALENDAR
