BEGIN:VCALENDAR
VERSION:2.0
PRODID:-//hacksw/handcal//NONSGML v1.0//EN
BEGIN:VEVENT
SUMMARY:Longe-cote Bergerie
UID:c0305268-d1f3-4fc1-962c-f29a026aac01
DTSTART:20260415T073000Z
DTEND:20260415T220000Z
LOCATION:Localisation   
CATEGORIES:Sportif
STATUS:
DESCRIPTION:<p><span style="font-size:18px;">Bonjour a toutes et a
 tous,</span></p>
 
 <p><span style="font-size:18px;">Retrouvons nous
 pour une belle matinee de Longe-cote demain a la Bergerie, comme en
 temoignent les conditions meteo previsionnelles. Bien
 amicalement.</span></p>
 
 <p><span
 style="font-size:18px;">Daniel-B.</span></p>
 
 <p><span
 style="font-size:11pt;"><span><span
 style="font-family:Cambria;"><b><i><span
 style="font-size:12pt;"><span style="font-family:Arial;">Mercredi
 15/04/2026, </span></span></i></b><span style="font-size:12pt;"><span
 style="font-family:Arial;">nous longerons <b><i>plage de la Bergerie.
 RDV </i></b><b><i><u>fixe a 09h15 sur
  </u></i></b></span></span></span></span></span></p>
 
 <p><span
 style="font-size:11pt;"><span><span
 style="font-family:Cambria;"><b><i><u><span
 style="font-size:12pt;"><span style="font-family:Arial;">Le
 parking.</span></span></u></i></b><span style="font-size:12pt;"><span
 style="font-family:Arial;">Apres un reveil musculaire sur le sable
 nous serons dans l’eau <i>vers<b> 09h30 </b>pour</i>poursuivre
 l’echauffement prealable a la
 seance.</span></span></span></span></span></p>
 
 <p><span
 style="font-size:11pt;"><span><span
 style="font-family:Cambria;"><b><i><u><span
 style="font-size:12pt;"><span style="font-family:Arial;">Vent
 oriente</span></span></u></i></b><b><i><span
 style="font-size:12pt;"><span style="font-family:Arial;"> :
 </span></span></i></b><span style="font-size:12pt;"><span
 style="font-family:Arial;">nord ouest et ouest<i> <b>-
 vitesse :</b></i> 03 a 05 nds - <b><i><u>rafales</u> : </i></b>05 a
 08nds<b><i>.</i></b></span></span></span></span></span></p>
 
 <p><span
 style="font-size:11pt;"><span><span
 style="font-family:Cambria;"><b><i><u><span
 style="font-size:12pt;"><span
 style="font-family:Arial;">Mer :</span></span></u></i></b><span
 style="font-size:12pt;"><span style="font-family:Arial;"> peu agitee
 – <b><i>houle : </i></b>ouest : 0,7m - <b><i>T° mer</i> </b>: 17
 ° -  <b><i><u>T° Air </u>: </i></b>16° a 19° -
 <b><i>ressentie</i></b> : 17 a
 23°</span></span></span></span></span></p>
 
 <p><span
 style="font-size:11pt;"><span><span
 style="font-family:Cambria;"><b><i><u><span
 style="font-size:12pt;"><span style="font-family:Arial;">Nuages
 :</span></span></u></i></b><span style="font-size:12pt;"><span
 style="font-family:Arial;"> 10% a 05% - <b><i><u>Risque Pluie
 </u></i>: </b>0 % et <b><u><span
 style="color:#000000;">Orage</span></u><span
 style="color:#000000;"> : </span></b><span
 style="color:#000000;">0%</span></span></span></span></span></span></p>
 
 <p><span
 style="font-size:11pt;"><span><span
 style="font-family:Cambria;"><b><span style="font-size:12pt;"><span
 style="font-family:Arial;"><span style="color:#FF0000;">N<i>ous
 devons respecter l’obligation de ne pas depasser 20 participants
 pour un Animateur et son Assistant.
 (F.F.R.)</i></span></span></span></b></span></span></span></p>
 
 <p><span
 style="font-size:11pt;"><span><span
 style="font-family:Cambria;"><b><span style="font-size:12pt;"><span
 style="font-family:Arial;"><span style="color:#000000;">Pensez
 toujours a vous hydrater. Protegez vous en fonction des conditions
 meteo (Soleil,
 froid).</span></span></span></b></span></span></span></p>
 
 <p><span
 style="font-size:11pt;"><span><span
 style="font-family:Cambria;"><b><i><span
 style="font-size:12pt;"><span style="font-family:Arial;"><span
 style="color:#FF0000;">CHAUSSURES OBLIGATOIRES.
 </span></span></span></i></b></span></span></span></p>
 
 <p> </p>
 
 <p><span
 style="font-size:11pt;"><span><span
 style="font-family:Cambria;"><b><i><span
 style="font-size:12pt;"><span style="font-family:Arial;"><span
 style="color:#000000;">Au plaisir de vous
 retrouver.</span></span></span></i></b></span></span></span></p>
 
 <p> </p>
 
 <p><span
 style="font-size:11pt;"><span><span
 style="font-family:Cambria;"><b><i><span
 style="font-size:12pt;"><span style="font-family:Arial;"><span
 style="color:#000000;">Daniel-B</span></span></span></i></b></span></span></span></p>
 
 <p> </p>
 
 <p> </p>
URL;VALUE=URI:https://www.randonneurshyerois.fr/evenements/2026/04/15/longe-cote-bergerie-2441127
END:VEVENT
END:VCALENDAR
