BEGIN:VCALENDAR
VERSION:2.0
PRODID:-//hacksw/handcal//NONSGML v1.0//EN
BEGIN:VEVENT
SUMMARY:rando pedestre a Bormes- niveau E2 - Animateurs : Bernard G
UID:8954b024-b9db-4115-a5d8-cfffaf61f970
DTSTART:20260421T113000Z
DTEND:20260421T220000Z
LOCATION:Localisation   
CATEGORIES:Sportif
STATUS:
DESCRIPTION:<table border="1" style="width:400px;"
 width="514">
 	<colgroup>
 		<col style="width:55pt;"
 width="74">
 		<col style="width:330pt;"
 width="440">
 	</colgroup>
 	<tbody>
 		<tr>
 			<td class="xl70"
 style="height:20px;width:74px;text-align:center;padding-left:1px;"><span
 style="font-size:15px;"><span style="color:#000000;"><span
 style="font-weight:400;"><span style="font-style:normal;"><span
 style="text-decoration:none;"><span style="font-family:Calibri,
 sans-serif;">Depart</span></span></span></span></span></span></td>
 			<td
 class="xl68"
 style="width:440px;text-align:center;padding-left:1px;"><span
 style="font-size:16px;"><span style="color:#000000;"><span
 style="font-weight:400;"><span style="font-style:normal;"><span
 style="text-decoration:none;"><span style="font-family:Calibri,
 sans-serif;">13h30</span></span></span></span></span></span></td>
 		</tr>
 		<tr>
 			<td
 class="xl70"
 style="height:20px;text-align:center;padding-left:1px;"><span
 style="font-size:15px;"><span style="color:#000000;"><span
 style="font-weight:400;"><span style="font-style:normal;"><span
 style="text-decoration:none;"><span style="font-family:Calibri,
 sans-serif;">Voiture
 AR</span></span></span></span></span></span></td>
 			<td class="xl68"
 style="text-align:center;padding-left:1px;"><span
 style="font-size:16px;"><span style="color:#000000;"><span
 style="font-weight:400;"><span style="font-style:normal;"><span
 style="text-decoration:none;"><span style="font-family:Calibri,
 sans-serif;">48km</span></span></span></span></span></span></td>
 		</tr>
 		<tr>
 			<td
 class="xl70"
 style="height:20px;text-align:center;padding-left:1px;"><span
 style="font-size:15px;"><span style="color:#000000;"><span
 style="font-weight:400;"><span style="font-style:normal;"><span
 style="text-decoration:none;"><span style="font-family:Calibri,
 sans-serif;">Activite</span></span></span></span></span></span></td>
 			<td
 class="xl67"
 style="width:440px;text-align:center;padding-left:1px;"><span
 style="font-size:16px;"><span style="color:#000000;"><span
 style="font-weight:400;"><span style="font-style:normal;"><span
 style="text-decoration:none;"><span style="font-family:Calibri,
 sans-serif;">RP apres
 midi</span></span></span></span></span></span></td>
 		</tr>
 		<tr>
 			<td
 class="xl70"
 style="height:20px;text-align:center;padding-left:1px;"><span
 style="font-size:15px;"><span style="color:#000000;"><span
 style="font-weight:400;"><span style="font-style:normal;"><span
 style="text-decoration:none;"><span style="font-family:Calibri,
 sans-serif;">Niveau</span></span></span></span></span></span></td>
 			<td
 class="xl67"
 style="width:440px;text-align:center;padding-left:1px;"><span
 style="font-size:16px;"><span style="color:#000000;"><span
 style="font-weight:400;"><span style="font-style:normal;"><span
 style="text-decoration:none;"><span style="font-family:Calibri,
 sans-serif;"><font><span style="font-size:12pt;"><span
 style="color:#000000;"><span style="font-weight:400;"><span
 style="font-style:normal;"><span style="text-decoration:none;"><span
 style="font-family:Calibri, sans-serif;">IBP
 40</span></span></span></span></span></span></font> <font><span
 style="font-size:12pt;"><span style="color:#000000;"><span
 style="font-weight:400;"><span style="font-style:normal;"><span
 style="text-decoration:none;"><span style="font-family:Calibri,
 sans-serif;">09km
 200m</span></span></span></span></span></span></font></span></span></span></span></span></span></td>
 		</tr>
 		<tr>
 			<td
 class="xl70"
 style="height:20px;text-align:center;padding-left:1px;"><span
 style="font-size:15px;"><span style="color:#000000;"><span
 style="font-weight:400;"><span style="font-style:normal;"><span
 style="text-decoration:none;"><span style="font-family:Calibri,
 sans-serif;">Cotation</span></span></span></span></span></span></td>
 			<td
 class="xl67"
 style="width:440px;text-align:center;padding-left:1px;"><span
 style="font-size:16px;"><span style="color:#000000;"><span
 style="font-weight:400;"><span style="font-style:normal;"><span
 style="text-decoration:none;"><span style="font-family:Calibri,
 sans-serif;">E2 T2
 R2</span></span></span></span></span></span></td>
 		</tr>
 		<tr>
 			<td
 class="xl70"
 style="height:20px;text-align:center;padding-left:1px;"><span
 style="font-size:15px;"><span style="color:#000000;"><span
 style="font-weight:400;"><span style="font-style:normal;"><span
 style="text-decoration:none;"><span style="font-family:Calibri,
 sans-serif;">Duree</span></span></span></span></span></span></td>
 			<td
 class="xl68" style="text-align:center;padding-left:1px;"><span
 style="font-size:16px;"><span style="color:#000000;"><span
 style="font-weight:400;"><span style="font-style:normal;"><span
 style="text-decoration:none;"><span style="font-family:Calibri,
 sans-serif;">03H00</span></span></span></span></span></span></td>
 		</tr>
 		<tr>
 			<td
 class="xl70"
 style="height:42px;text-align:center;padding-left:1px;"><span
 style="font-size:15px;"><span style="color:#000000;"><span
 style="font-weight:400;"><span style="font-style:normal;"><span
 style="text-decoration:none;"><span style="font-family:Calibri,
 sans-serif;">Description</span></span></span></span></span></span></td>
 			<td
 class="xl69"
 style="width:440px;text-align:left;padding-left:1px;"><span
 style="font-size:16px;"><span style="color:#000000;"><span
 style="font-weight:700;"><span style="font-style:normal;"><span
 style="text-decoration:none;"><span style="font-family:Calibri,
 sans-serif;"><font><span style="font-size:12pt;"><span
 style="color:#000000;"><span style="font-weight:700;"><span
 style="font-style:normal;"><span style="text-decoration:none;"><span
 style="font-family:Calibri,
 sans-serif;">Bormes :</span></span></span></span></span></span></font><font><span
 style="font-size:12pt;"><span style="color:#000000;"><span
 style="font-weight:400;"><span style="font-style:normal;"><span
 style="text-decoration:none;"><span style="font-family:Calibri,
 sans-serif;">Le Grand et Petit Noyer, lac du Bargean,Hameau du Noyer
 parmi les chenes centenaires. Carte
 3446OT</span></span></span></span></span></span></font></span></span></span></span></span></span></td>
 		</tr>
 	</tbody>
 </table>
URL;VALUE=URI:https://www.randonneurshyerois.fr/evenements/2026/04/21/rando-pedestre-a-bormes-niveau-e2-animateurs-bernard-g-2419532
END:VEVENT
END:VCALENDAR
