BEGIN:VCALENDAR
VERSION:2.0
PRODID:-//hacksw/handcal//NONSGML v1.0//EN
BEGIN:VEVENT
SUMMARY:rando pedestre a COLLOBRIERES - Niveau E3 - Michel G Michel F Suzanne T
UID:0cc3c597-8e34-4407-bebc-5e47f5b932a1
DTSTART:20260423T063000Z
DTEND:20260423T220000Z
LOCATION:Localisation   
CATEGORIES:Sportif
STATUS:
DESCRIPTION:<p>Les 2 Michel et Suzanne T animeront une rando jeudi 23
 avril a Collobrieres sur le plateau du Treps actuellemnt tres fleuri
 , 15.5kms denivele 550m route AR 66kms classement E3T3R3, itineraire
 passant par le col de Taillude, la cascade de Vaucaude, les 3
 confronts, le rocher blanc, le lac, depart 8h30 parking de l'Espace
 3000</p>
URL;VALUE=URI:https://www.randonneurshyerois.fr/evenements/2026/04/23/rando-pedestre-a-collobrieres-niveau-e3-michel-g-michel-f-suzanne-t-2443046
END:VEVENT
END:VCALENDAR
