BEGIN:VCALENDAR
VERSION:2.0
PRODID:-//hacksw/handcal//NONSGML v1.0//EN
BEGIN:VEVENT
SUMMARY:Longe cote a la Bergerie
UID:b4fd7da3-a4ee-4c83-bec6-50193769387d
DTSTART:20260425T071500Z
DTEND:20260425T220000Z
LOCATION:Longe-cote Bergerie 11 Avenue de la Bergerie 83400 La Capte
CATEGORIES:Sportif
STATUS:
DESCRIPTION:<p>Bonjour a toutes et a tous,</p>
 
 <p>Samedi nous
 longerons a la Bergerie.</p>
 
 <p>Nous nous retrouverons a<strong>
 9h15 sur le parking de la Bergerie</strong>, devant la
 plage.</p>
 
 <p>Il va faire grand beau temps !</p>
 
 <p><u>Previsions
 meteo</u> :</p>
 
 <p>Soleil 100%</p>
 
 <p>T° air : 15 a 18°     
   </p>
 
 <p>Vent d'ouest, 11 a 16 nds (21 a 30 Km/h)</p>
 
 <p>Houle
 de 0,1 m, mer belle.</p>
 
 <p>T° mer : 18°</p>
 
 <p>N'oubliez pas de
 vous inscrire avant vendredi 24 avril, 20h. Pour des raisons de
 securite, 1 animateur/trice est requis.e pour un groupe de 20
 participant.e.s.</p>
 
 <p><strong>Nous vous rappelons que les
 chaussures de marche aquatique sont
 obligatoires.</strong></p>
 
 <p>Pensez a vous hydrater avant, pendant
 et apres la seance.</p>
 
 <p> </p>
URL;VALUE=URI:https://www.randonneurshyerois.fr/evenements/2026/04/25/longe-cote-a-la-bergerie-2444508
END:VEVENT
END:VCALENDAR
