BEGIN:VCALENDAR
VERSION:2.0
PRODID:-//hacksw/handcal//NONSGML v1.0//EN
BEGIN:VEVENT
SUMMARY:❌ ANNULEE rando pedestre a Hyeres- niveau E2 - Animateurs :  Michel F.
UID:2cc308aa-2996-4665-bbb2-14e37ca363d4
DTSTART:20260426T061500Z
DTEND:20260426T220000Z
LOCATION:Localisation   
CATEGORIES:Sportif
STATUS:
DESCRIPTION:<table border="1" style="width:400px;"
 width="514">
 	<colgroup>
 		<col style="width:55pt;"
 width="74">
 		<col style="width:330pt;"
 width="440">
 	</colgroup>
 	<tbody>
 		<tr>
 			<td class="xl70"
 style="height:20px;width:74px;text-align:center;padding-left:1px;"><s><span
 style="font-size:15px;"><span style="color:#000000;"><span
 style="font-weight:400;"><span style="font-style:normal;"><span
 style="text-decoration:none;"><span style="font-family:Calibri,
 sans-serif;">Depart</span></span></span></span></span></span></s></td>
 			<td
 class="xl68"
 style="width:440px;text-align:center;padding-left:1px;"><s><span
 style="font-size:16px;"><span style="color:#000000;"><span
 style="font-weight:400;"><span style="font-style:normal;"><span
 style="text-decoration:none;"><span style="font-family:Calibri,
 sans-serif;">9h30</span></span></span></span></span></span></s></td>
 		</tr>
 		<tr>
 			<td
 class="xl70"
 style="height:20px;text-align:center;padding-left:1px;"><s><span
 style="font-size:15px;"><span style="color:#000000;"><span
 style="font-weight:400;"><span style="font-style:normal;"><span
 style="text-decoration:none;"><span style="font-family:Calibri,
 sans-serif;">Voiture
 AR</span></span></span></span></span></span></s></td>
 			<td
 class="xl68" style="text-align:center;padding-left:1px;"><s><span
 style="font-size:16px;"><span style="color:#000000;"><span
 style="font-weight:400;"><span style="font-style:normal;"><span
 style="text-decoration:none;"><span style="font-family:Calibri,
 sans-serif;">0</span></span></span></span></span></span></s></td>
 		</tr>
 		<tr>
 			<td
 class="xl70"
 style="height:20px;text-align:center;padding-left:1px;"><s><span
 style="font-size:15px;"><span style="color:#000000;"><span
 style="font-weight:400;"><span style="font-style:normal;"><span
 style="text-decoration:none;"><span style="font-family:Calibri,
 sans-serif;">Activite</span></span></span></span></span></span></s></td>
 			<td
 class="xl67"
 style="width:440px;text-align:center;padding-left:1px;"><s><span
 style="font-size:16px;"><span style="color:#000000;"><span
 style="font-weight:400;"><span style="font-style:normal;"><span
 style="text-decoration:none;"><span style="font-family:Calibri,
 sans-serif;">RP</span></span></span></span></span></span></s></td>
 		</tr>
 		<tr>
 			<td
 class="xl70"
 style="height:20px;text-align:center;padding-left:1px;"><s><span
 style="font-size:15px;"><span style="color:#000000;"><span
 style="font-weight:400;"><span style="font-style:normal;"><span
 style="text-decoration:none;"><span style="font-family:Calibri,
 sans-serif;">Niveau</span></span></span></span></span></span></s></td>
 			<td
 class="xl67"
 style="width:440px;text-align:center;padding-left:1px;"><s><span
 style="font-size:16px;"><span style="color:#000000;"><span
 style="font-weight:400;"><span style="font-style:normal;"><span
 style="text-decoration:none;"><span style="font-family:Calibri,
 sans-serif;">IBP 39   10 km  300
 m</span></span></span></span></span></span></s></td>
 		</tr>
 		<tr>
 			<td
 class="xl70"
 style="height:20px;text-align:center;padding-left:1px;"><s><span
 style="font-size:15px;"><span style="color:#000000;"><span
 style="font-weight:400;"><span style="font-style:normal;"><span
 style="text-decoration:none;"><span style="font-family:Calibri,
 sans-serif;">Cotation</span></span></span></span></span></span></s></td>
 			<td
 class="xl67"
 style="width:440px;text-align:center;padding-left:1px;"><s><span
 style="font-size:16px;"><span style="color:#000000;"><span
 style="font-weight:400;"><span style="font-style:normal;"><span
 style="text-decoration:none;"><span style="font-family:Calibri,
 sans-serif;">E2 T3
 R3</span></span></span></span></span></span></s></td>
 		</tr>
 		<tr>
 			<td
 class="xl70"
 style="height:20px;text-align:center;padding-left:1px;"><s><span
 style="font-size:15px;"><span style="color:#000000;"><span
 style="font-weight:400;"><span style="font-style:normal;"><span
 style="text-decoration:none;"><span style="font-family:Calibri,
 sans-serif;">Duree</span></span></span></span></span></span></s></td>
 			<td
 class="xl68" style="text-align:center;padding-left:1px;"><s><span
 style="font-size:16px;"><span style="color:#000000;"><span
 style="font-weight:400;"><span style="font-style:normal;"><span
 style="text-decoration:none;"><span style="font-family:Calibri,
 sans-serif;">05h30</span></span></span></span></span></span></s></td>
 		</tr>
 		<tr>
 			<td
 class="xl70"
 style="height:62px;text-align:center;padding-left:1px;"><s><span
 style="font-size:15px;"><span style="color:#000000;"><span
 style="font-weight:400;"><span style="font-style:normal;"><span
 style="text-decoration:none;"><span style="font-family:Calibri,
 sans-serif;">Description</span></span></span></span></span></span></s></td>
 			<td
 class="xl69"
 style="width:440px;text-align:left;padding-left:1px;"><s><span
 style="font-size:16px;"><span style="color:#000000;"><span
 style="font-weight:700;"><span style="font-style:normal;"><span
 style="text-decoration:none;"><span style="font-family:Calibri,
 sans-serif;"><font><span style="font-size:12pt;"><span
 style="color:#000000;"><span style="font-weight:700;"><span
 style="font-style:normal;"><span style="text-decoration:none;"><span
 style="font-family:Calibri, sans-serif;">Hyeres :
 </span></span></span></span></span></span></font><font><span
 style="font-size:12pt;"><span style="color:#000000;"><span
 style="font-weight:400;"><span style="font-style:italic;"><span
 style="text-decoration:none;"><span style="font-family:Calibri,
 sans-serif;">sur inscriptions par mail a l'animateur
 </span></span></span></span></span></span></font><font><span
 style="font-size:12pt;"><span style="color:#000000;"><span
 style="font-weight:700;"><span style="font-style:italic;"><span
 style="text-decoration:none;"><span style="font-family:Calibri,
 sans-serif;"> </span></span></span></span></span></span></font><font><span
 style="font-size:12pt;"><span style="color:#000000;"><span
 style="font-weight:400;"><span style="font-style:normal;"><span
 style="text-decoration:none;"><span style="font-family:Calibri,
 sans-serif;">visite de la villa neo palatine du Plantier avec la
 chapelle et son parc  classe (10€), pic des Feees , Mont des
 Oiseaux</span></span></span></span></span></span></font><font><span
 style="font-size:12pt;"><span style="color:#000000;"><span
 style="font-weight:700;"><span style="font-style:normal;"><span
 style="text-decoration:none;"><span style="font-family:Calibri,
 sans-serif;">,
 </span></span></span></span></span></span></font><font><span
 style="font-size:12pt;"><span style="color:#000000;"><span
 style="font-weight:400;"><span style="font-style:normal;"><span
 style="text-decoration:none;"><span style="font-family:Calibri,
 sans-serif;">enclos des
 biches</span></span></span></span></span></span></font> <font><span
 style="font-size:12pt;"><span style="color:#000000;"><span
 style="font-weight:400;"><span style="font-style:italic;"><span
 style="text-decoration:none;"><span style="font-family:Calibri,
 sans-serif;">Depart parking de
 l'Almanarre</span></span></span></span></span></span></font></span></span></span></span></span></span></s></td>
 		</tr>
 	</tbody>
 </table>
 
 <p><s>mail
 de modification du 11 mars : </s></p>
 
 <p><s>La rando qui etait
 programmee le 28 avril avec visite du Plantier est avancee au
 dimanche 26 avril 2026 avec depart a 8h15 du parking de ND de
 Consolation .</s></p>
 
 <p><s>Le Plantier etait la propriete
 historique de Paul Bourget et comprend une villa neopalatine, une
 chapelle neogothique et un jardin classe remarquable.avec plusieurs
 arbres remarquables</s></p>
 
 <p><s>La visite dure 2h avec un paiement
 a l'entree de 10€ ( a apporter uniquement en
 billet)</s></p>
 
 <p><s>L'inscription prealable est obligatoire par
 mail a l'animateur et pour info il ne reste que 9
 places</s></p>
 
 <p><s>La visite sera suivie d'une rando sur le Mont
 des oiseaux et pique nique au pic des fees avec vue qur la presqu'ile
 de Giens ( la visite sans la rando n'est pas possible et ceux qui ne
 voudraient pas faire la rando peuvent faire uniquement la visite le
 jour des monuments historiques )</s></p>
 
 <p><s>La rando a un IBP38
 et donc classee E2 mais comprend une bonne montee a 20% sur 300m ,
 avant le pique nique.</s></p>
 
 <p><s>La descente emprunte  les voies
 de la copropriete du Mont des Oiseaux , suivi d'un passage  au parc
 des biches .</s></p>
 
 <p><s>Michel F</s></p>
 
 <p> </p>
URL;VALUE=URI:https://www.randonneurshyerois.fr/evenements/2026/04/26/annulee-rando-pedestre-a-hyeres-niveau-e2-animateurs-michel-f-2419565
END:VEVENT
END:VCALENDAR
