BEGIN:VCALENDAR
VERSION:2.0
PRODID:-//hacksw/handcal//NONSGML v1.0//EN
BEGIN:VEVENT
SUMMARY:Fete de la rando a st Maximin
UID:23cfbf6c-0ed7-49d7-abed-4b556f0f9ddc
DTSTART:20260501T220000Z
DTEND:20260502T220000Z
LOCATION:Localisation   
CATEGORIES:Sportif
STATUS:
DESCRIPTION:<p>Le club de randonnee "A PEDIBUS" de Saint Maximin qui
 fete ses 30 ans et le CDRP du Var, organisent une manifestation
 “Festi Rando” qui se deroulera le samedi 02 mai 2026 au Domaine
 de ST Hilaire a OLLIERES.</p>
 
 <p>Au programme :</p>
 
 <p>- rando
 sportive : 23km et 470m de denivele </p>
 
 <p>- rando confirmes :
 17km et 380m de denivele </p>
 
 <p>- rando douce : 9km et 90m de
 denivele</p>
 
 <p>- rando sante : 6km et 22m de denivele</p>
 
 <p>-
 marche nordique : 10km et 125m de denivele.</p>
URL;VALUE=URI:https://www.randonneurshyerois.fr/evenements/2026/05/02/fete-de-la-rando-a-st-maximin-2438534
END:VEVENT
END:VCALENDAR
