BEGIN:VCALENDAR
VERSION:2.0
PRODID:-//hacksw/handcal//NONSGML v1.0//EN
BEGIN:VEVENT
SUMMARY:Longe-cote previsionnel
UID:f07bfd9b-2ba3-45e8-a198-5fb31553c2fe
DTSTART:20260502T073000Z
DTEND:20260502T220000Z
LOCATION:Localisation   
CATEGORIES:Sportif
STATUS:
DESCRIPTION:<p>Longe-cote seance previsionnelle : le lieu et
 l’horaire precis de la seance sont indiques au plus tard la veille,
 dans le mail d’invitation permettant l’inscription (obligatoire).
 Rappel : des chaussures aquatiques sont exigees -- L'equipe
 animateurs longe-cote<br>
  </p>
URL;VALUE=URI:https://www.randonneurshyerois.fr/evenements/2026/05/02/longe-cote-previsionnel-2405376
END:VEVENT
END:VCALENDAR
