BEGIN:VCALENDAR
VERSION:2.0
PRODID:-//hacksw/handcal//NONSGML v1.0//EN
BEGIN:VEVENT
SUMMARY:MN - Fete de la Randonnee a St Maximin
UID:58c26a4f-d6c4-4242-b76c-dda82a516b1f
DTSTART:20260502T060000Z
DTEND:20260502T220000Z
LOCATION:Rendez-vous espace 3000 parking espace 3000  83400 HYERES
CATEGORIES:Sportif
STATUS:
DESCRIPTION:<p style="text-align:justify;"><span
 style="font-size:18px;">Bonjour a toutes et a tous, </span></p>
 
 <p
 style="text-align:justify;"><span style="font-size:18px;">Le Club de
 St Maximin fete ses 30 ans et organise, en collaboration avec le CDRP
 (Comite Departemental de Randonnee Pedestre), la fete de la randonnee
 au domaine de St Hilaire a Ollieres. Le parcours MN comporte 10 km et
 125 m de D+. Nous vous proposons une inscription et un paiement
 (<strong>tarif 12€ et date</strong> <strong>butoir 28 avril 2026 a
 20h</strong>) par virement sur le compte bancaire des Randonneurs
 Hyerois, comme vous le faites pour les challenges. Il faudra
 egalement commmuniquer votre taille pour la remise de votre
 tee-chirt. Nous vous donnons RDV a l'Espace 3000 a partir de 07h45
 (covoiturage) pour un depart a 08h. Nous comptons sur votre
 participation pour representer et marquer la vitalite de notre Club
 dans ce lieu magnifique. </span></p>
 
 <p
 style="text-align:justify;"><span style="font-size:18px;">Bien
 amicalement et sportivement.</span></p>
 
 <p
 style="text-align:justify;"><span style="font-size:18px;">Vos
 animateurs MN.</span></p>
URL;VALUE=URI:https://www.randonneurshyerois.fr/evenements/2026/05/02/mn-fete-de-la-randonnee-a-st-maximin-2441866
END:VEVENT
END:VCALENDAR
