BEGIN:VCALENDAR
VERSION:2.0
PRODID:-//hacksw/handcal//NONSGML v1.0//EN
BEGIN:VEVENT
SUMMARY:Longe-cote previsionnel
UID:3e87d1e8-3c13-46b8-be9f-f82a4a296bb0
DTSTART:20260506T073000Z
DTEND:20260506T220000Z
LOCATION:Localisation   
CATEGORIES:Sportif
STATUS:
DESCRIPTION:<p>Longe-cote seance previsionnelle : le lieu et
 l’horaire precis de la seance sont indiques au plus tard la veille,
 dans le mail d’invitation permettant l’inscription (obligatoire).
 Rappel : des chaussures aquatiques sont exigees -- L'equipe
 animateurs longe-cote<br>
  </p>
URL;VALUE=URI:https://www.randonneurshyerois.fr/evenements/2026/05/06/longe-cote-previsionnel-2405392
END:VEVENT
END:VCALENDAR
