BEGIN:VCALENDAR
VERSION:2.0
PRODID:-//hacksw/handcal//NONSGML v1.0//EN
BEGIN:VEVENT
SUMMARY:Sante en MN seance previsionnelle
UID:6e082ce7-4a1a-4596-8cca-f63ccbadf35b
DTSTART:20260525T063000Z
DTEND:20260525T220000Z
LOCATION:Localisation   
CATEGORIES:Sportif
STATUS:
DESCRIPTION:<p>SANTE en MN : avant la premiere seance, contacter
 l'animateur par telephone. Puis seance sur inscription sur le site le
 lundi avant 08h00. Reveil musculaire, marche a allure adaptee
 integrant des exercices techniques et d'endurance, renforcement
 musculaire, assouplissements -- Animatrice Evelyne P.<br>
  </p>
URL;VALUE=URI:https://www.randonneurshyerois.fr/evenements/2026/05/25/sante-en-mn-seance-previsionnelle-2405415
END:VEVENT
END:VCALENDAR
