BEGIN:VCALENDAR
VERSION:2.0
PRODID:-//hacksw/handcal//NONSGML v1.0//EN
BEGIN:VEVENT
SUMMARY:Longe-cote previsionnel
UID:b6603401-0615-4147-87c2-64d217759cc6
DTSTART:20260530T073000Z
DTEND:20260530T220000Z
LOCATION:Localisation   
CATEGORIES:Sportif
STATUS:
DESCRIPTION:<p>Longe-cote seance previsionnelle : le lieu et
 l’horaire precis de la seance sont indiques au plus tard la veille,
 dans le mail d’invitation permettant l’inscription (obligatoire).
 Rappel : des chaussures aquatiques sont exigees -- L'equipe
 animateurs longe-cote<br>
  </p>
URL;VALUE=URI:https://www.randonneurshyerois.fr/evenements/2026/05/30/longe-cote-previsionnel-2405385
END:VEVENT
END:VCALENDAR
