BEGIN:VCALENDAR
VERSION:2.0
PRODID:-//hacksw/handcal//NONSGML v1.0//EN
BEGIN:VEVENT
SUMMARY:Longe-cote previsionnel
UID:2fa3448a-52fc-4433-87b9-e85eedf4b751
DTSTART:20260610T073000Z
DTEND:20260610T220000Z
LOCATION:Localisation   
CATEGORIES:Sportif
STATUS:
DESCRIPTION:<p>Longe-cote seance previsionnelle : le lieu et
 l’horaire precis de la seance sont indiques au plus tard la veille,
 dans le mail d’invitation permettant l’inscription (obligatoire).
 Rappel : des chaussures aquatiques sont exigees -- L'equipe
 animateurs longe-cote<br>
  </p>
URL;VALUE=URI:https://www.randonneurshyerois.fr/evenements/2026/06/10/longe-cote-previsionnel-2405389
END:VEVENT
END:VCALENDAR
