BEGIN:VCALENDAR
VERSION:2.0
PRODID:-//hacksw/handcal//NONSGML v1.0//EN
BEGIN:VEVENT
SUMMARY:Longe-cote previsionnel
UID:3b075a6e-07ad-42be-a97b-6990550fc1ee
DTSTART:20260615T073000Z
DTEND:20260615T220000Z
LOCATION:Localisation   
CATEGORIES:Sportif
STATUS:
DESCRIPTION:<p>Seance previsionnelle de longe-cote, remplacant les
 activites de marche nordique et sante en marche nordique des Lundis,
 a partir de mi-juin 2026, en prevision d'une temperature meteo peu
 compatible avec la pratique de la marche nordique.  Voir le texte de
 l'activite longe-cote en debut de bimestre.</p>
URL;VALUE=URI:https://www.randonneurshyerois.fr/evenements/2026/06/15/longe-cote-previsionnel-2443647
END:VEVENT
END:VCALENDAR
