BEGIN:VCALENDAR
VERSION:2.0
PRODID:-//hacksw/handcal//NONSGML v1.0//EN
BEGIN:VEVENT
SUMMARY:Longe-cote previsionnel
UID:329046e7-61e7-423a-b7d2-c0dad0a8683e
DTSTART:20260620T073000Z
DTEND:20260620T220000Z
LOCATION:Localisation   
CATEGORIES:Sportif
STATUS:
DESCRIPTION:<p>Longe-cote seance previsionnelle : le lieu et
 l’horaire precis de la seance sont indiques au plus tard la veille,
 dans le mail d’invitation permettant l’inscription (obligatoire).
 Rappel : des chaussures aquatiques sont exigees -- L'equipe
 animateurs longe-cote<br>
  </p>
URL;VALUE=URI:https://www.randonneurshyerois.fr/evenements/2026/06/20/longe-cote-previsionnel-2405386
END:VEVENT
END:VCALENDAR
