BEGIN:VCALENDAR
VERSION:2.0
PRODID:-//hacksw/handcal//NONSGML v1.0//EN
BEGIN:VEVENT
SUMMARY:Longe-cote previsionnel dedie au club Lyonnais
UID:efa2cfe1-2782-4638-905b-7c013b9164de
DTSTART:20260626T073000Z
DTEND:20260626T220000Z
LOCATION:Localisation   
CATEGORIES:Sportif
STATUS:
DESCRIPTION:<p>Seance de longe-cote previsionnelle dediee au club
 lyonnais</p>
URL;VALUE=URI:https://www.randonneurshyerois.fr/evenements/2026/06/26/longe-cote-previsionnel-dedie-au-club-lyonnais-2442753
END:VEVENT
END:VCALENDAR
