BEGIN:VCALENDAR
VERSION:2.0
PRODID:-//hacksw/handcal//NONSGML v1.0//EN
BEGIN:VEVENT
SUMMARY:Longe-cote previsionnel
UID:0fa3967b-2212-402d-b266-5c4170470415
DTSTART:20260627T073000Z
DTEND:20260627T220000Z
LOCATION:Localisation   
CATEGORIES:Sportif
STATUS:
DESCRIPTION:<p>Longe-cote seance previsionnelle : a noter qu'en
 Juillet, Aout et debut Septembre, certaines seances du club pourront
 vous etre proposees, avec les modalites d'inscription et regles
 habituelles, en fonction de la disponibilite des animateurs et du
 nombre de participants interesses. Le lieu et l’horaire precis de
 la seance sont indiques au plus tard la veille, dans le mail
 d’invitation permettant l’inscription (obligatoire). Rappel : des
 chaussures aquatiques sont exigees -- L'equipe animateurs
 longe-cote</p>
URL;VALUE=URI:https://www.randonneurshyerois.fr/evenements/2026/06/27/longe-cote-previsionnel-2405377
END:VEVENT
END:VCALENDAR
