BEGIN:VCALENDAR
VERSION:2.0
PRODID:-//hacksw/handcal//NONSGML v1.0//EN
BEGIN:VEVENT
SUMMARY:Longe-cote previsionnel dedie au club Lyonnais
UID:26ff32f3-69b9-489e-b8dd-ea8bb1afbc62
DTSTART:20260628T073000Z
DTEND:20260628T220000Z
LOCATION:Localisation   
CATEGORIES:Sportif
STATUS:
DESCRIPTION:<p>Seance de longe-cote previsionnelle dediee au club
 lyonnais</p>
URL;VALUE=URI:https://www.randonneurshyerois.fr/evenements/2026/06/28/longe-cote-previsionnel-dedie-au-club-lyonnais-2442754
END:VEVENT
END:VCALENDAR
